BEGIN:VCALENDAR
VERSION:2.0
PRODID:-//AIPP - ECPv5.3.2.1//NONSGML v1.0//EN
CALSCALE:GREGORIAN
METHOD:PUBLISH
X-WR-CALNAME:AIPP
X-ORIGINAL-URL:https://aipp.com.au
X-WR-CALDESC:Events for AIPP
BEGIN:VTIMEZONE
TZID:Australia/Sydney
BEGIN:STANDARD
TZOFFSETFROM:+1100
TZOFFSETTO:+1000
TZNAME:AEST
DTSTART:20210403T160000
END:STANDARD
BEGIN:DAYLIGHT
TZOFFSETFROM:+1000
TZOFFSETTO:+1100
TZNAME:AEDT
DTSTART:20211002T160000
END:DAYLIGHT
END:VTIMEZONE
BEGIN:VEVENT
DTSTART;TZID=Australia/Sydney:20210203T123000
DTEND;TZID=Australia/Sydney:20210205T213000
DTSTAMP:20210226T225426
CREATED:20210118T043657Z
LAST-MODIFIED:20210205T005046Z
UID:2366-1612355400-1612560600@aipp.com.au
SUMMARY:Business Bootcamp
DESCRIPTION:  \n\nIn the past year\, we’ve faced challenges that the world has never seen before and as a result\, we now need to look for new and unique ways to succeed in business.\nAIPP TV is hosting an online Business Bootcamp with twelve presenters who will inspire you\, and give you tools to take your business to the next level\, no matter what stage you’re at. \nThere will be 16 sessions over 3 days. Presenters include Kylie Garner\, Kate Ellis\, Mark Rossetto\, Ben Amos\, and Belinda Richards just to name a few. Some of our topics include Marketing\, Client Retention\, Social Media\, and Video. At the end of each day we’ll also have a Live Q&A Panel discussing different themes each night. This online Business Bootcamp is heavily discounted to ensure nobody misses out on this valuable information\, get your ticket today! \n\nREGISTRATION CLOSES MONDAY 1ST FEBRUARY!  DON’T WAIT TO BOOK YOUR TICKET!\n\nSCHEDULE\nDay One – Wednesday 3rd February 2021\n12:30-1:30pm – Kylie Garner – Remarkability: How to Stand Out in a Crowded Marketplace\n2:00-3:00pm – Johl Dunn – Post COVID: The 3 Key Mindset Pillars That Will Dictate your Business Destiny in 2021 + Q&A\n3:00-4:00pm – Russell Hamlet – Pricing and Self-Belief + Q&A\n4:00-5:00pm – Felisha Mina – Client Retention Strategies For Time Poor Photographers + Q&A\n7:00-8:30pm Live Q&A Panel – Theme – Fine Art/Landscape\nDay Two – Thursday 4th February 2021\n12:30-1:30pm – Kate Ellis – This Messy Journey\n2:00-3:00pm – Luke Tscharke – Social Media + Q&A\n3:00-4:00pm – Lisa Ivandich – Build Your Dream Business + Q&A\n4:00-5:00pm – Mark Rossetto – How to Streamline Your Shooting Workflow and Increase Sales + Q&A\n7:00-8:30pm Live Q&A Panel – Theme – Wedding/Events/Commercial/Video\nDay Three – Friday 5th February 2021\n12:30-1:30pm – Mark Rossetto – How to Generate Leads on Demand and Increase Your Average Sale on Autopilot\n2:00-3:00pm – Natarsha March – Blogging For Photographers + Q&A\n3:00-4:00pm – Ben Amos – Designing a Video Strategy For Your Business (or your clients) + Q&A\n4:00-5:00pm – Belinda Richards – You Do You & I’ll Do Me: Why YOU are the Key to Creating a Unique Business + Q&A\n7:00-8:30pm Live Q&A Panel – Theme – Portrait/Newborn/Pets\n8:30-10:30pm Online Social Event\n\n\n\n\n  \n  \nBROUGHT TO YOU BY AIPP ONLINE CONTENT COMMITTEE
URL:https://aipp.com.au/event/business-bootcamp/
LOCATION:Online\, Australia
CATEGORIES:ACT,CPD Professional Development,NSW,NT,Online,Personal Development,QLD,SA,TAS,VIC,WA
ATTACH;FMTTYPE=image/jpeg:https://aipp.com.au/wp-content/uploads/2021/01/OCC-Business-Bootcamp-2021-01-123.jpg
ORGANIZER;CN="Online%20Content%20Committee":MAILTO:online@aipp.com.au
END:VEVENT
END:VCALENDAR